BEGIN:VCALENDAR
VERSION:2.0
PRODID:-//eventon.com NONSGML v1.0//EN
CALSCALE:GREGORIAN
METHOD:PUBLISH
BEGIN:VEVENT
UID:69e98f2b67cf9
DTSTAMP:20260423T084659
DTSTART:20240430T160000Z
DTEND:20240501T023000Z
TZID:Asia/Kolkata
LOCATION:
SUMMARY:FREE GENERAL HEALTH & HYGIENE CHECK-UP CAMP
DESCRIPTION:Venue: KFP\,  Budh Vihar Event Date: 30 April\,  2024 (Tuesday) Last Registration Date: 27 April\,  2024\nhttps://internationalkarate.in/event-list/free-general-health-hygiene-check-up-camp/
URL:https://internationalkarate.in/event-list/free-general-health-hygiene-check-up-camp/
END:VEVENT
END:VCALENDAR